BEGIN:VCALENDAR
VERSION:2.0
PRODID:-//Contratero//ES
CALSCALE:GREGORIAN
METHOD:PUBLISH
BEGIN:VEVENT
UID:CNMY 626/2025@contratero.es
DTSTAMP:20260423T051046Z
DTSTART:20250710T235959
DTEND:20250711T005959
SUMMARY:Cierre: Servicio de mantenimiento de la sala simulación y 
DESCRIPTION:Servicio de mantenimiento de la sala simulación y arrendamiento sin opción a compra de maniquí pediátrico y monitor desfibrilador prehospitalario del SESCV\\n\\nOrganismo: Servicio de Emergencias Sanitarias de la Comunitat Valenciana. Dirección Económica-Gerencia\\n\\nVer en Contratero: https://contratero.es/contracts/CNMY 626/2025
URL:https://contratero.es/contracts/CNMY 626/2025
STATUS:CONFIRMED
BEGIN:VALARM
TRIGGER:-P1D
ACTION:DISPLAY
DESCRIPTION:Recordatorio: Servicio de mantenimiento de l
END:VALARM
END:VEVENT
END:VCALENDAR